BEGIN:VCALENDAR
VERSION:2.0
PRODID:-//Tech Data Cyber Range - ECPv5.7.0//NONSGML v1.0//EN
CALSCALE:GREGORIAN
METHOD:PUBLISH
X-WR-CALNAME:Tech Data Cyber Range
X-ORIGINAL-URL:https://cyberrange.techdata.com
X-WR-CALDESC:Events for Tech Data Cyber Range
BEGIN:VTIMEZONE
TZID:America/Phoenix
BEGIN:STANDARD
TZOFFSETFROM:-0700
TZOFFSETTO:-0700
TZNAME:MST
DTSTART:20190101T000000
END:STANDARD
END:VTIMEZONE
BEGIN:VEVENT
DTSTART;TZID=America/Phoenix:20191125T160000
DTEND;TZID=America/Phoenix:20191125T170000
DTSTAMP:20210704T112248
CREATED:20191125T184933Z
LAST-MODIFIED:20191125T184933Z
UID:5141-1574697600-1574701200@cyberrange.techdata.com
SUMMARY:Private Tour
DESCRIPTION:
URL:https://cyberrange.techdata.com/event/private-tour-3/
LOCATION:Virtual
CATEGORIES:Public Calendar
END:VEVENT
END:VCALENDAR