BEGIN:VCALENDAR
VERSION:2.0
PRODID:-//Tech Data Cyber Range - ECPv5.4.0.2//NONSGML v1.0//EN
CALSCALE:GREGORIAN
METHOD:PUBLISH
X-WR-CALNAME:Tech Data Cyber Range
X-ORIGINAL-URL:https://cyberrange.techdata.com
X-WR-CALDESC:Events for Tech Data Cyber Range
BEGIN:VTIMEZONE
TZID:America/New_York
BEGIN:DAYLIGHT
TZOFFSETFROM:-0500
TZOFFSETTO:-0400
TZNAME:EDT
DTSTART:20200308T070000
END:DAYLIGHT
BEGIN:STANDARD
TZOFFSETFROM:-0400
TZOFFSETTO:-0500
TZNAME:EST
DTSTART:20201101T060000
END:STANDARD
END:VTIMEZONE
BEGIN:VEVENT
DTSTART;TZID=America/New_York:20200225T120000
DTEND;TZID=America/New_York:20200225T160000
DTSTAMP:20210527T094907
CREATED:20191029T053738Z
LAST-MODIFIED:20191029T053738Z
UID:4540-1582632000-1582646400@cyberrange.techdata.com
SUMMARY:Training Mission: WPAD Man in the Middle
DESCRIPTION:In this scenario\, a Man-in-the-Middle (MiTM) attack is executed on the network where the attacker impersonates a legitimate proxy in the segment in order to deceive victim hosts. In this complex scenario\, participants will use advanced detection and prevention techniques to mitigate the scenario before significant data is exfiltrated from the environment\, leaving the organization in a more vulnerable position.
URL:https://cyberrange.techdata.com/event/training-mission-wpad-man-in-the-middle/2020-02-25/
LOCATION:Virtual
CATEGORIES:CRC-WP
END:VEVENT
END:VCALENDAR