BEGIN:VCALENDAR
VERSION:2.0
PRODID:-//Tech Data Cyber Range - ECPv5.8.0//NONSGML v1.0//EN
CALSCALE:GREGORIAN
METHOD:PUBLISH
X-WR-CALNAME:Tech Data Cyber Range
X-ORIGINAL-URL:https://cyberrange.techdata.com
X-WR-CALDESC:Events for Tech Data Cyber Range
BEGIN:VTIMEZONE
TZID:America/Phoenix
BEGIN:STANDARD
TZOFFSETFROM:-0700
TZOFFSETTO:-0700
TZNAME:MST
DTSTART:20210101T000000
END:STANDARD
END:VTIMEZONE
BEGIN:VEVENT
DTSTART;TZID=America/Phoenix:20210630T110000
DTEND;TZID=America/Phoenix:20210630T113000
DTSTAMP:20210729T170433
CREATED:20210603T233731Z
LAST-MODIFIED:20210609T223557Z
UID:10901-1625050800-1625052600@cyberrange.techdata.com
SUMMARY:IBM - Partner Event
DESCRIPTION:
URL:https://cyberrange.techdata.com/event/ibm-partner-event-4/
LOCATION:Virtual
CATEGORIES:Public Calendar
END:VEVENT
END:VCALENDAR