BEGIN:VCALENDAR
VERSION:2.0
PRODID:-//Tech Data - ECPv5.8.1//NONSGML v1.0//EN
CALSCALE:GREGORIAN
METHOD:PUBLISH
X-WR-CALNAME:Tech Data
X-ORIGINAL-URL:https://cyberrange.techdata.com
X-WR-CALDESC:Events for Tech Data
BEGIN:VTIMEZONE
TZID:America/Phoenix
BEGIN:STANDARD
TZOFFSETFROM:-0700
TZOFFSETTO:-0700
TZNAME:MST
DTSTART:20210101T000000
END:STANDARD
TZID:America/Denver
BEGIN:DAYLIGHT
TZOFFSETFROM:-0700
TZOFFSETTO:-0600
TZNAME:MDT
DTSTART:20210314T090000
END:DAYLIGHT
BEGIN:STANDARD
TZOFFSETFROM:-0600
TZOFFSETTO:-0700
TZNAME:MST
DTSTART:20211107T080000
END:STANDARD
BEGIN:DAYLIGHT
TZOFFSETFROM:-0700
TZOFFSETTO:-0600
TZNAME:MDT
DTSTART:20220313T090000
END:DAYLIGHT
BEGIN:STANDARD
TZOFFSETFROM:-0600
TZOFFSETTO:-0700
TZNAME:MST
DTSTART:20221106T080000
END:STANDARD
END:VTIMEZONE
BEGIN:VEVENT
DTSTART;TZID=America/Phoenix:20210721T090000
DTEND;TZID=America/Phoenix:20210721T143000
DTSTAMP:20211020T221436
CREATED:20210413T203721Z
LAST-MODIFIED:20210617T163924Z
UID:11348-1626858000-1626877800@cyberrange.techdata.com
SUMMARY:Symantec Event
DESCRIPTION:
URL:https://cyberrange.techdata.com/event/symantec-event/
LOCATION:404
CATEGORIES:Public Calendar
END:VEVENT
BEGIN:VEVENT
DTSTART;TZID=America/Phoenix:20210722T100000
DTEND;TZID=America/Phoenix:20210722T140000
DTSTAMP:20211020T221436
CREATED:20210408T193925Z
LAST-MODIFIED:20210617T164742Z
UID:10824-1626948000-1626962400@cyberrange.techdata.com
SUMMARY:Partner Event & IBM
DESCRIPTION:
URL:https://cyberrange.techdata.com/event/partner-event-ibm-8/
LOCATION:Virtual
CATEGORIES:Public Calendar
END:VEVENT
BEGIN:VEVENT
DTSTART;TZID=America/Denver:20210802T160000
DTEND;TZID=America/Denver:20210802T200000
DTSTAMP:20211020T221436
CREATED:20210819T164836Z
LAST-MODIFIED:20210819T164836Z
UID:11724-1627920000-1627934400@cyberrange.techdata.com
SUMMARY:CompTIA Event
DESCRIPTION:
URL:https://cyberrange.techdata.com/event/comptia-event/
LOCATION:Tech Data Cyber Range\, 8700 S Price Rd\, Tempe\, AZ\, 85284\, United States
END:VEVENT
BEGIN:VEVENT
DTSTART;TZID=America/Phoenix:20210803T110000
DTEND;TZID=America/Phoenix:20210803T130000
DTSTAMP:20211020T221436
CREATED:20211005T150030Z
LAST-MODIFIED:20210819T162941Z
UID:10897-1627988400-1627995600@cyberrange.techdata.com
SUMMARY:Area 1 - Event
DESCRIPTION:
URL:https://cyberrange.techdata.com/event/area-1-event/
LOCATION:Virtual
CATEGORIES:Public Calendar
END:VEVENT
BEGIN:VEVENT
DTSTART;TZID=America/Phoenix:20210812T100000
DTEND;TZID=America/Phoenix:20210812T120000
DTSTAMP:20211020T221436
CREATED:20210430T220317Z
LAST-MODIFIED:20210617T164551Z
UID:11350-1628762400-1628769600@cyberrange.techdata.com
SUMMARY:Veritas Event
DESCRIPTION:
URL:https://cyberrange.techdata.com/event/veritas-event/
LOCATION:Virtual
CATEGORIES:Public Calendar
END:VEVENT
BEGIN:VEVENT
DTSTART;TZID=America/Denver:20210824T080000
DTEND;TZID=America/Denver:20210824T093000
DTSTAMP:20211020T221436
CREATED:20210819T163416Z
LAST-MODIFIED:20210819T163416Z
UID:11694-1629792000-1629797400@cyberrange.techdata.com
SUMMARY:LATAM - Train the Trainers Session
DESCRIPTION:–
URL:https://cyberrange.techdata.com/event/latam-train-the-trainers-session/
LOCATION:Tech Data Cyber Range\, 8700 S Price Rd\, Tempe\, AZ\, 85284\, United States
END:VEVENT
BEGIN:VEVENT
DTSTART;TZID=America/Denver:20210901T100000
DTEND;TZID=America/Denver:20210901T140000
DTSTAMP:20211020T221436
CREATED:20210819T163549Z
LAST-MODIFIED:20210819T163549Z
UID:11696-1630490400-1630504800@cyberrange.techdata.com
SUMMARY:Partner Event
DESCRIPTION:
URL:https://cyberrange.techdata.com/event/partner-event-14/
LOCATION:Tech Data Cyber Range\, 8700 S Price Rd\, Tempe\, AZ\, 85284\, United States
END:VEVENT
BEGIN:VEVENT
DTSTART;TZID=America/Denver:20210909T110000
DTEND;TZID=America/Denver:20210909T130000
DTSTAMP:20211020T221436
CREATED:20210819T163653Z
LAST-MODIFIED:20210819T163711Z
UID:11698-1631185200-1631192400@cyberrange.techdata.com
SUMMARY:Allot Tour
DESCRIPTION:
URL:https://cyberrange.techdata.com/event/allot-tour/
LOCATION:Tech Data Cyber Range\, 8700 S Price Rd\, Tempe\, AZ\, 85284\, United States
END:VEVENT
BEGIN:VEVENT
DTSTART;TZID=America/Phoenix:20210916T090000
DTEND;TZID=America/Phoenix:20210916T140000
DTSTAMP:20211020T221436
CREATED:20210311T234649Z
LAST-MODIFIED:20210617T164519Z
UID:10758-1631782800-1631800800@cyberrange.techdata.com
SUMMARY:Barracuda Event
DESCRIPTION:
URL:https://cyberrange.techdata.com/event/barracuda-event/
LOCATION:Virtual
CATEGORIES:Public Calendar
END:VEVENT
BEGIN:VEVENT
DTSTART;TZID=America/Denver:20210921T120000
DTEND;TZID=America/Denver:20210921T140000
DTSTAMP:20211020T221436
CREATED:20210819T163947Z
LAST-MODIFIED:20210819T163947Z
UID:11704-1632225600-1632232800@cyberrange.techdata.com
SUMMARY:Partner Event w/IBM Cambridge
DESCRIPTION:
URL:https://cyberrange.techdata.com/event/partner-event-w-ibm-cambridge/
LOCATION:Tech Data Cyber Range\, 8700 S Price Rd\, Tempe\, AZ\, 85284\, United States
END:VEVENT
BEGIN:VEVENT
DTSTART;TZID=America/Denver:20210923T110000
DTEND;TZID=America/Denver:20210923T140000
DTSTAMP:20211020T221436
CREATED:20210819T164028Z
LAST-MODIFIED:20210819T164028Z
UID:11706-1632394800-1632405600@cyberrange.techdata.com
SUMMARY:Symantec/Broadcom Event
DESCRIPTION:
URL:https://cyberrange.techdata.com/event/symantec-broadcom-event/
LOCATION:Tech Data Cyber Range\, 8700 S Price Rd\, Tempe\, AZ\, 85284\, United States
END:VEVENT
BEGIN:VEVENT
DTSTART;TZID=America/Denver:20211001T080000
DTEND;TZID=America/Denver:20211001T100000
DTSTAMP:20211020T221436
CREATED:20210819T164121Z
LAST-MODIFIED:20210819T164121Z
UID:11708-1633075200-1633082400@cyberrange.techdata.com
SUMMARY:LATAM - Event
DESCRIPTION:
URL:https://cyberrange.techdata.com/event/latam-event/
LOCATION:Tech Data Cyber Range\, 8700 S Price Rd\, Tempe\, AZ\, 85284\, United States
END:VEVENT
BEGIN:VEVENT
DTSTART;TZID=America/Denver:20211005T110000
DTEND;TZID=America/Denver:20211005T130000
DTSTAMP:20211020T221436
CREATED:20210819T165202Z
LAST-MODIFIED:20210819T165202Z
UID:11726-1633431600-1633438800@cyberrange.techdata.com
SUMMARY:Area 1 Event
DESCRIPTION:
URL:https://cyberrange.techdata.com/event/area-1-event-2/
LOCATION:Tech Data Cyber Range\, 8700 S Price Rd\, Tempe\, AZ\, 85284\, United States
END:VEVENT
BEGIN:VEVENT
DTSTART;TZID=America/Denver:20211013T110000
DTEND;TZID=America/Denver:20211013T130000
DTSTAMP:20211020T221436
CREATED:20210819T164239Z
LAST-MODIFIED:20210819T164239Z
UID:11712-1634122800-1634130000@cyberrange.techdata.com
SUMMARY:Microsoft Event
DESCRIPTION:
URL:https://cyberrange.techdata.com/event/microsoft-event/
LOCATION:Tech Data Cyber Range\, 8700 S Price Rd\, Tempe\, AZ\, 85284\, United States
END:VEVENT
BEGIN:VEVENT
DTSTART;TZID=America/Phoenix:20211021T090000
DTEND;TZID=America/Phoenix:20211021T150000
DTSTAMP:20211020T221436
CREATED:20210311T234727Z
LAST-MODIFIED:20210617T164115Z
UID:10760-1634806800-1634828400@cyberrange.techdata.com
SUMMARY:ConnectWise Event
DESCRIPTION:
URL:https://cyberrange.techdata.com/event/connectwise-event/
LOCATION:404
CATEGORIES:Public Calendar
END:VEVENT
BEGIN:VEVENT
DTSTART;VALUE=DATE:20211029
DTEND;VALUE=DATE:20211030
DTSTAMP:20211020T221436
CREATED:20210819T164503Z
LAST-MODIFIED:20210819T164503Z
UID:11718-1635465600-1635551999@cyberrange.techdata.com
SUMMARY:PCC - Hack-a-lot
DESCRIPTION:
URL:https://cyberrange.techdata.com/event/pcc-hack-a-lot/
LOCATION:Tech Data Cyber Range\, 8700 S Price Rd\, Tempe\, AZ\, 85284\, United States
END:VEVENT
BEGIN:VEVENT
DTSTART;TZID=America/Denver:20211103T090000
DTEND;TZID=America/Denver:20211103T130000
DTSTAMP:20211020T221436
CREATED:20210826T183458Z
LAST-MODIFIED:20210826T183458Z
UID:11735-1635930000-1635944400@cyberrange.techdata.com
SUMMARY:Partner Event
DESCRIPTION:
URL:https://cyberrange.techdata.com/event/partner-event-22/
LOCATION:Tech Data Cyber Range\, 8700 S Price Rd\, Tempe\, AZ\, 85284\, United States
END:VEVENT
BEGIN:VEVENT
DTSTART;TZID=America/Denver:20211109T100000
DTEND;TZID=America/Denver:20211109T150000
DTSTAMP:20211020T221436
CREATED:20210916T173351Z
LAST-MODIFIED:20210916T173351Z
UID:11878-1636452000-1636470000@cyberrange.techdata.com
SUMMARY:IBM - Partner Event
DESCRIPTION:
URL:https://cyberrange.techdata.com/event/ibm-partner-event-2/
LOCATION:Virtual
END:VEVENT
BEGIN:VEVENT
DTSTART;TZID=America/Denver:20211115T100000
DTEND;TZID=America/Denver:20211115T140000
DTSTAMP:20211020T221436
CREATED:20210819T164544Z
LAST-MODIFIED:20210819T164544Z
UID:11720-1636970400-1636984800@cyberrange.techdata.com
SUMMARY:Tripwire Event
DESCRIPTION:
URL:https://cyberrange.techdata.com/event/tripwire-event/
LOCATION:Tech Data Cyber Range\, 8700 S Price Rd\, Tempe\, AZ\, 85284\, United States
END:VEVENT
BEGIN:VEVENT
DTSTART;TZID=America/Denver:20211116T110000
DTEND;TZID=America/Denver:20211116T133000
DTSTAMP:20211020T221436
CREATED:20210819T164628Z
LAST-MODIFIED:20210819T164628Z
UID:11722-1637060400-1637069400@cyberrange.techdata.com
SUMMARY:WatchGuard Event
DESCRIPTION:
URL:https://cyberrange.techdata.com/event/watchguard-event-2/
LOCATION:Tech Data Cyber Range\, 8700 S Price Rd\, Tempe\, AZ\, 85284\, United States
END:VEVENT
BEGIN:VEVENT
DTSTART;TZID=America/Phoenix:20211116T120000
DTEND;TZID=America/Phoenix:20211116T160000
DTSTAMP:20211020T221436
CREATED:20210212T173854Z
LAST-MODIFIED:20211019T195804Z
UID:10719-1637064000-1637078400@cyberrange.techdata.com
SUMMARY:Tech Data Enforce Roadshow
DESCRIPTION:
URL:https://cyberrange.techdata.com/event/tech-data-enforce/
LOCATION:Tech Data Cyber Range\, 8700 S Price Rd\, Tempe\, AZ\, 85284\, United States
CATEGORIES:Public Calendar
END:VEVENT
BEGIN:VEVENT
DTSTART;TZID=America/Denver:20211202T100000
DTEND;TZID=America/Denver:20211202T153000
DTSTAMP:20211020T221436
CREATED:20210819T164151Z
LAST-MODIFIED:20211008T212202Z
UID:11710-1638439200-1638459000@cyberrange.techdata.com
SUMMARY:Trend Micro Event
DESCRIPTION:
URL:https://cyberrange.techdata.com/event/trend-micro-event/
LOCATION:Virtual
END:VEVENT
BEGIN:VEVENT
DTSTART;TZID=America/Denver:20211207T100000
DTEND;TZID=America/Denver:20211207T130000
DTSTAMP:20211020T221436
CREATED:20210928T233709Z
LAST-MODIFIED:20210928T234523Z
UID:11893-1638871200-1638882000@cyberrange.techdata.com
SUMMARY:IBM Partner Event
DESCRIPTION:
URL:https://cyberrange.techdata.com/event/ibm-partner-event-9/
LOCATION:Virtual
END:VEVENT
BEGIN:VEVENT
DTSTART;TZID=America/Denver:20211209T100000
DTEND;TZID=America/Denver:20211209T140000
DTSTAMP:20211020T221436
CREATED:20211019T201744Z
LAST-MODIFIED:20211019T201744Z
UID:11921-1639044000-1639058400@cyberrange.techdata.com
SUMMARY:IBM - Partner Event
DESCRIPTION:
URL:https://cyberrange.techdata.com/event/ibm-partner-event-3/
LOCATION:Tech Data Cyber Range\, 8700 S Price Rd\, Tempe\, AZ\, 85284\, United States
END:VEVENT
BEGIN:VEVENT
DTSTART;TZID=America/Denver:20220111T100000
DTEND;TZID=America/Denver:20220111T150000
DTSTAMP:20211020T221436
CREATED:20211008T212615Z
LAST-MODIFIED:20211008T212615Z
UID:11902-1641895200-1641913200@cyberrange.techdata.com
SUMMARY:VMware Event
DESCRIPTION:
URL:https://cyberrange.techdata.com/event/vmware-event-3/
LOCATION:Tech Data Cyber Range\, 8700 S Price Rd\, Tempe\, AZ\, 85284\, United States
END:VEVENT
BEGIN:VEVENT
DTSTART;TZID=America/Denver:20220113T100000
DTEND;TZID=America/Denver:20220113T150000
DTSTAMP:20211020T221436
CREATED:20210819T163756Z
LAST-MODIFIED:20210826T183300Z
UID:11700-1642068000-1642086000@cyberrange.techdata.com
SUMMARY:McAfee Event
DESCRIPTION:
URL:https://cyberrange.techdata.com/event/mcafee-event/
LOCATION:Tech Data Cyber Range\, 8700 S Price Rd\, Tempe\, AZ\, 85284\, United States
END:VEVENT
BEGIN:VEVENT
DTSTART;TZID=America/Denver:20220118T100000
DTEND;TZID=America/Denver:20220118T150000
DTSTAMP:20211020T221436
CREATED:20210826T183354Z
LAST-MODIFIED:20210826T183354Z
UID:11733-1642500000-1642518000@cyberrange.techdata.com
SUMMARY:Cisco Event
DESCRIPTION:
URL:https://cyberrange.techdata.com/event/cisco-event/
LOCATION:Tech Data Cyber Range\, 8700 S Price Rd\, Tempe\, AZ\, 85284\, United States
END:VEVENT
BEGIN:VEVENT
DTSTART;TZID=America/Denver:20220126T090000
DTEND;TZID=America/Denver:20220126T130000
DTSTAMP:20211020T221436
CREATED:20210819T164415Z
LAST-MODIFIED:20210928T164250Z
UID:11716-1643187600-1643202000@cyberrange.techdata.com
SUMMARY:IBM Event
DESCRIPTION:
URL:https://cyberrange.techdata.com/event/ibm-event-4/
LOCATION:Tech Data Cyber Range\, 8700 S Price Rd\, Tempe\, AZ\, 85284\, United States
END:VEVENT
END:VCALENDAR